BEGIN:VCALENDAR
VERSION:2.0
PRODID:-//https://penrith.rwoffice1.com/nsw/glenmore-park/3496560///NONSGML kigkonsult.se iCalcreator 2.10.23//
BEGIN:VTIMEZONE
TZID:Australia/NSW
END:VTIMEZONE
BEGIN:VEVENT
UID:20260424T140521UTC-5104o8nHBz@https://penrith.rwoffice1.com/nsw/glenmor
 e-park/3496560/
DTSTAMP:20260424T140521Z
ATTENDEE:MAILTO:team.radzieta@raywhite.com
DESCRIPTION:Open For Inspection Time\n		Glenmore Park\, 119 Glenmore Ridge 
 Drive\n		Property Price: $750 Per WeekProperty Type: House\n		Beds: 3   Ba
 ths: 2   Car Spaces: 1\n\n		View details: https://penrith.rwoffice1.com/ns
 w/glenmore-park/3496560/\n\n		Agent: Team Radzieta\n			 Email: team.radzie
 ta@raywhite.com\n\n		Ray White recommends confirming the Open For Inspecti
 on Time times with the Agent\, to ensure they have not changed.
DTSTART:20260430T154500
DTEND:20260430T160000
LOCATION:Glenmore Park\, 119 Glenmore Ridge Drive
SUMMARY:Inspection - Glenmore Park\, 119 Glenmore Ridge Drive
X-WR-TIMEZONE:Australia/NSW
END:VEVENT
END:VCALENDAR
