BEGIN:VCALENDAR
VERSION:2.0
PRODID:-//https://penrith.rwoffice1.com/nsw/jordan-springs/3495947///NONSGML kigkonsult.se iCalcreator 2.10.23//
BEGIN:VTIMEZONE
TZID:Australia/NSW
END:VTIMEZONE
BEGIN:VEVENT
UID:20260424T140343UTC-1665vsrxTP@https://penrith.rwoffice1.com/nsw/jordan-
 springs/3495947/
DTSTAMP:20260424T140343Z
ATTENDEE:MAILTO:zoe.berardinelli@raywhite.com
DESCRIPTION:Open For Inspection Time\n		Jordan Springs\, 39 Sharp Avenue\n	
 	Property Price: $950 Per WeekProperty Type: House\n		Beds: 4   Baths: 2  
  Car Spaces: 3\n\n		View details: https://penrith.rwoffice1.com/nsw/jordan
 -springs/3495947/\n\n		Agent: Zoe Berardinelli\n			 Email: zoe.berardinell
 i@raywhite.com\n\n		Ray White recommends confirming the Open For Inspectio
 n Time times with the Agent\, to ensure they have not changed.
DTSTART:20260428T150000
DTEND:20260428T151500
LOCATION:Jordan Springs\, 39 Sharp Avenue
SUMMARY:Inspection - Jordan Springs\, 39 Sharp Avenue
X-WR-TIMEZONE:Australia/NSW
END:VEVENT
END:VCALENDAR
