BEGIN:VCALENDAR
VERSION:2.0
PRODID:-//https://penrith.rwoffice1.com/nsw/glenmore-park/3495300///NONSGML kigkonsult.se iCalcreator 2.10.23//
BEGIN:VTIMEZONE
TZID:Australia/NSW
END:VTIMEZONE
BEGIN:VEVENT
UID:20260423T150235UTC-7459uCPgfS@https://penrith.rwoffice1.com/nsw/glenmor
 e-park/3495300/
DTSTAMP:20260423T150235Z
ATTENDEE:MAILTO:team.radzieta@raywhite.com
DESCRIPTION:Open For Inspection Time\n		Glenmore Park\, 16 Yellow Gum Close
 \n		Property Price: $830 Per WeekProperty Type: House\n		Beds: 3   Baths: 
 2   Car Spaces: 2\n\n		View details: https://penrith.rwoffice1.com/nsw/gle
 nmore-park/3495300/\n\n		Agent: Team Radzieta\n			 Email: team.radzieta@ra
 ywhite.com\n\n		Ray White recommends confirming the Open For Inspection Ti
 me times with the Agent\, to ensure they have not changed.
DTSTART:20260424T160000
DTEND:20260424T161500
LOCATION:Glenmore Park\, 16 Yellow Gum Close
SUMMARY:Inspection - Glenmore Park\, 16 Yellow Gum Close
X-WR-TIMEZONE:Australia/NSW
END:VEVENT
END:VCALENDAR
