BEGIN:VCALENDAR
VERSION:2.0
PRODID:-//https://penrith.rwoffice1.com/nsw/jamisontown/3495281///NONSGML kigkonsult.se iCalcreator 2.10.23//
BEGIN:VTIMEZONE
TZID:Australia/NSW
END:VTIMEZONE
BEGIN:VEVENT
UID:20260423T145744UTC-1302kB8NCN@https://penrith.rwoffice1.com/nsw/jamison
 town/3495281/
DTSTAMP:20260423T145744Z
ATTENDEE:MAILTO:paris.burke@raywhite.com
DESCRIPTION:Open For Inspection Time\n		Jamisontown\, 8 Yanco Avenue\n		Pro
 perty Price: $700 Per WeekProperty Type: House\n		Beds: 3   Baths: 1   Car
  Spaces: 2\n\n		View details: https://penrith.rwoffice1.com/nsw/jamisontow
 n/3495281/\n\n		Agent: Paris Burke\n			 Email: paris.burke@raywhite.com\n
 \n		Ray White recommends confirming the Open For Inspection Time times wit
 h the Agent\, to ensure they have not changed.
DTSTART:20260424T161500
DTEND:20260424T163000
LOCATION:Jamisontown\, 8 Yanco Avenue
SUMMARY:Inspection - Jamisontown\, 8 Yanco Avenue
X-WR-TIMEZONE:Australia/NSW
END:VEVENT
END:VCALENDAR
