BEGIN:VCALENDAR
VERSION:2.0
PRODID:-//https://penrith.rwoffice1.com/nsw/jamisontown/3494105///NONSGML kigkonsult.se iCalcreator 2.10.23//
BEGIN:VTIMEZONE
TZID:Australia/NSW
END:VTIMEZONE
BEGIN:VEVENT
UID:20260421T124331UTC-3665MIxh3r@https://penrith.rwoffice1.com/nsw/jamison
 town/3494105/
DTSTAMP:20260421T124331Z
ATTENDEE:MAILTO:helen.fitzpatrick@raywhite.com
DESCRIPTION:Open For Inspection Time\n		Jamisontown\, 14 &amp\; 14a Dent St
 reet\n		Property Price: Just ListedProperty Type: House\n		Beds: 6   Baths
 : 2   Car Spaces: 2\n\n		View details: https://penrith.rwoffice1.com/nsw/j
 amisontown/3494105/\n\n		Agent: Helen Fitzpatrick\n			 Email: helen.fitzpa
 trick@raywhite.com\n			 Mobile: +61 414 362 955\n			 Phone: +61 (2) 4732 3
 333\n\n		Ray White recommends confirming the Open For Inspection Time time
 s with the Agent\, to ensure they have not changed.
DTSTART:20260424T170000
DTEND:20260424T173000
LOCATION:Jamisontown\, 14 &amp\; 14a Dent Street
SUMMARY:Inspection - Jamisontown\, 14 &amp\; 14a Dent Street
X-WR-TIMEZONE:Australia/NSW
END:VEVENT
END:VCALENDAR
