BEGIN:VCALENDAR
VERSION:2.0
PRODID:-//https://penrith.rwoffice1.com/nsw/glenmore-park/3493832///NONSGML kigkonsult.se iCalcreator 2.10.23//
BEGIN:VTIMEZONE
TZID:Australia/NSW
END:VTIMEZONE
BEGIN:VEVENT
UID:20260422T032511UTC-39979dWV5s@https://penrith.rwoffice1.com/nsw/glenmor
 e-park/3493832/
DTSTAMP:20260422T032511Z
ATTENDEE:MAILTO:team.radzieta@raywhite.com
DESCRIPTION:Open For Inspection Time\n		Glenmore Park\, 33 Alston Street\n	
 	Property Price: $830 Per WeekProperty Type: House\n		Beds: 4   Baths: 2  
  Car Spaces: 2\n\n		View details: https://penrith.rwoffice1.com/nsw/glenmo
 re-park/3493832/\n\n		Agent: Team Radzieta\n			 Email: team.radzieta@raywh
 ite.com\n\n		Ray White recommends confirming the Open For Inspection Time 
 times with the Agent\, to ensure they have not changed.
DTSTART:20260424T163000
DTEND:20260424T164500
LOCATION:Glenmore Park\, 33 Alston Street
SUMMARY:Inspection - Glenmore Park\, 33 Alston Street
X-WR-TIMEZONE:Australia/NSW
END:VEVENT
END:VCALENDAR
