BEGIN:VCALENDAR
VERSION:2.0
PRODID:-//https://penrith.rwoffice1.com/nsw/jordan-springs/3493286///NONSGML kigkonsult.se iCalcreator 2.10.23//
BEGIN:VTIMEZONE
TZID:Australia/NSW
END:VTIMEZONE
BEGIN:VEVENT
UID:20260424T084013UTC-6939VnmZ1a@https://penrith.rwoffice1.com/nsw/jordan-
 springs/3493286/
DTSTAMP:20260424T084013Z
ATTENDEE:MAILTO:paris.burke@raywhite.com
DESCRIPTION:Open For Inspection Time\n		Jordan Springs\, 36 Sandstock Avenu
 e\n		Property Price: $780 Per WeekProperty Type: House\n		Beds: 4   Baths:
  2   Car Spaces: 2\n\n		View details: https://penrith.rwoffice1.com/nsw/jo
 rdan-springs/3493286/\n\n		Agent: Paris Burke\n			 Email: paris.burke@rayw
 hite.com\n\n		Ray White recommends confirming the Open For Inspection Time
  times with the Agent\, to ensure they have not changed.
DTSTART:20260430T152000
DTEND:20260430T153500
LOCATION:Jordan Springs\, 36 Sandstock Avenue
SUMMARY:Inspection - Jordan Springs\, 36 Sandstock Avenue
X-WR-TIMEZONE:Australia/NSW
END:VEVENT
END:VCALENDAR
