BEGIN:VCALENDAR
VERSION:2.0
PRODID:-//https://penrith.rwoffice1.com/nsw/penrith/3493021///NONSGML kigkonsult.se iCalcreator 2.10.23//
BEGIN:VTIMEZONE
TZID:Australia/NSW
END:VTIMEZONE
BEGIN:VEVENT
UID:20260420T161904UTC-2447wDaIGO@https://penrith.rwoffice1.com/nsw/penrith
 /3493021/
DTSTAMP:20260420T161904Z
ATTENDEE:MAILTO:jasmyn.calgaro@raywhite.com
DESCRIPTION:Open For Inspection Time\n		Penrith\, 14/19-21 Thurston Street
 \n		Property Price: $549\,000 - $599\,000Property Type: Apartment\n		Beds:
  2   Baths: 1   Car Spaces: 1\n\n		View details: https://penrith.rwoffice1
 .com/nsw/penrith/3493021/\n\n		Agent: Jasmyn Calgaro\n			 Email: jasmyn.ca
 lgaro@raywhite.com\n			 Mobile: +61 481 230 228\n			 Phone: +61 (2) 4732 3
 333\n\n		Ray White recommends confirming the Open For Inspection Time time
 s with the Agent\, to ensure they have not changed.
DTSTART:20260423T171500
DTEND:20260423T174500
LOCATION:Penrith\, 14/19-21 Thurston Street
SUMMARY:Inspection - Penrith\, 14/19-21 Thurston Street
X-WR-TIMEZONE:Australia/NSW
END:VEVENT
END:VCALENDAR
