BEGIN:VCALENDAR
VERSION:2.0
PRODID:-//https://penrith.rwoffice1.com/nsw/kingswood/3492982///NONSGML kigkonsult.se iCalcreator 2.10.23//
BEGIN:VTIMEZONE
TZID:Australia/NSW
END:VTIMEZONE
BEGIN:VEVENT
UID:20260424T094819UTC-7365zcCGIv@https://penrith.rwoffice1.com/nsw/kingswo
 od/3492982/
DTSTAMP:20260424T094819Z
ATTENDEE:MAILTO:paris.burke@raywhite.com
DESCRIPTION:Open For Inspection Time\n		Kingswood\, 7 GRACE Street\n		Prope
 rty Price: $550 Per WeekProperty Type: House\n		Beds: 3   Baths: 1   Car S
 paces: 1\n\n		View details: https://penrith.rwoffice1.com/nsw/kingswood/34
 92982/\n\n		Agent: Paris Burke\n			 Email: paris.burke@raywhite.com\n\n		R
 ay White recommends confirming the Open For Inspection Time times with the
  Agent\, to ensure they have not changed.
DTSTART:20260429T142000
DTEND:20260429T143500
LOCATION:Kingswood\, 7 GRACE Street
SUMMARY:Inspection - Kingswood\, 7 GRACE Street
X-WR-TIMEZONE:Australia/NSW
END:VEVENT
END:VCALENDAR
