BEGIN:VCALENDAR
VERSION:2.0
PRODID:-//https://penrith.rwoffice1.com/nsw/glenmore-park/3492809///NONSGML kigkonsult.se iCalcreator 2.10.23//
BEGIN:VTIMEZONE
TZID:Australia/NSW
END:VTIMEZONE
BEGIN:VEVENT
UID:20260420T045044UTC-7704IUttx6@https://penrith.rwoffice1.com/nsw/glenmor
 e-park/3492809/
DTSTAMP:20260420T045044Z
ATTENDEE:MAILTO:robert.norgate@raywhite.com
DESCRIPTION:Open For Inspection Time\n		Glenmore Park\, 14 Durali Road\n		P
 roperty Price: $1\,049\,000 - $1\,099\,000Property Type: House\n		Beds: 3 
   Baths: 1   Car Spaces: 1\n\n		View details: https://penrith.rwoffice1.co
 m/nsw/glenmore-park/3492809/\n\n		Agent: Robert Norgate\n			 Email: robert
 .norgate@raywhite.com\n			 Mobile: +61 438 740 496\n			 Phone: +61 (2) 473
 7 9911\n\n		Ray White recommends confirming the Open For Inspection Time t
 imes with the Agent\, to ensure they have not changed.
DTSTART:20260421T170000
DTEND:20260421T173000
LOCATION:Glenmore Park\, 14 Durali Road
SUMMARY:Inspection - Glenmore Park\, 14 Durali Road
X-WR-TIMEZONE:Australia/NSW
END:VEVENT
END:VCALENDAR
