BEGIN:VCALENDAR
VERSION:2.0
PRODID:-//https://penrith.rwoffice1.com/nsw/penrith/3492677///NONSGML kigkonsult.se iCalcreator 2.10.23//
BEGIN:VTIMEZONE
TZID:Australia/NSW
END:VTIMEZONE
BEGIN:VEVENT
UID:20260420T034754UTC-1354l62Gt6@https://penrith.rwoffice1.com/nsw/penrith
 /3492677/
DTSTAMP:20260420T034754Z
ATTENDEE:MAILTO:robert.norgate@raywhite.com
DESCRIPTION:Open For Inspection Time\n		Penrith\, 47 Warwick Street\n		Prop
 erty Price: Buyers Guide - $1\,099\,000Property Type: House\n		Beds: 3   B
 aths: 2   Car Spaces: 2\n\n		View details: https://penrith.rwoffice1.com/n
 sw/penrith/3492677/\n\n		Agent: Robert Norgate\n			 Email: robert.norgate@
 raywhite.com\n			 Mobile: +61 438 740 496\n			 Phone: +61 (2) 4737 9911\n
 \n		Ray White recommends confirming the Open For Inspection Time times wit
 h the Agent\, to ensure they have not changed.
DTSTART:20260422T170000
DTEND:20260422T173000
LOCATION:Penrith\, 47 Warwick Street
SUMMARY:Inspection - Penrith\, 47 Warwick Street
X-WR-TIMEZONE:Australia/NSW
END:VEVENT
END:VCALENDAR
