BEGIN:VCALENDAR
VERSION:2.0
PRODID:-//https://penrith.rwoffice1.com/nsw/st-clair/3492596///NONSGML kigkonsult.se iCalcreator 2.10.23//
BEGIN:VTIMEZONE
TZID:Australia/NSW
END:VTIMEZONE
BEGIN:VEVENT
UID:20260419T164006UTC-7439PxdIgF@https://penrith.rwoffice1.com/nsw/st-clai
 r/3492596/
DTSTAMP:20260419T164006Z
ATTENDEE:MAILTO:paris.burke@raywhite.com
DESCRIPTION:Open For Inspection Time\n		St Clair\, 24 Clyde Avenue\n		Prope
 rty Price: $700 Per WeekProperty Type: House\n		Beds: 3   Baths: 1   Car S
 paces: 2\n\n		View details: https://penrith.rwoffice1.com/nsw/st-clair/349
 2596/\n\n		Agent: Paris Burke\n			 Email: paris.burke@raywhite.com\n\n		Ra
 y White recommends confirming the Open For Inspection Time times with the 
 Agent\, to ensure they have not changed.
DTSTART:20260421T153000
DTEND:20260421T154500
LOCATION:St Clair\, 24 Clyde Avenue
SUMMARY:Inspection - St Clair\, 24 Clyde Avenue
X-WR-TIMEZONE:Australia/NSW
END:VEVENT
END:VCALENDAR
