BEGIN:VCALENDAR
VERSION:2.0
PRODID:-//https://penrith.rwoffice1.com/nsw/minchinbury/3492550///NONSGML kigkonsult.se iCalcreator 2.10.23//
BEGIN:VTIMEZONE
TZID:Australia/NSW
END:VTIMEZONE
BEGIN:VEVENT
UID:20260422T085753UTC-2421SUHGeE@https://penrith.rwoffice1.com/nsw/minchin
 bury/3492550/
DTSTAMP:20260422T085753Z
ATTENDEE:MAILTO:paige.oliver@raywhite.com
DESCRIPTION:Open For Inspection Time\n		Minchinbury\, 11 Mcfarlane Drive\n	
 	Property Price: $1\,100\,000 - $1\,200\,000Property Type: House\n		Beds: 
 3   Baths: 2   Car Spaces: 2\n\n		View details: https://penrith.rwoffice1.
 com/nsw/minchinbury/3492550/\n\n		Agent: Paige Oliver\n			 Email: paige.ol
 iver@raywhite.com\n\n		Ray White recommends confirming the Open For Inspec
 tion Time times with the Agent\, to ensure they have not changed.
DTSTART:20260422T170000
DTEND:20260422T173000
LOCATION:Minchinbury\, 11 Mcfarlane Drive
SUMMARY:Inspection - Minchinbury\, 11 Mcfarlane Drive
X-WR-TIMEZONE:Australia/NSW
END:VEVENT
END:VCALENDAR
