BEGIN:VCALENDAR
VERSION:2.0
PRODID:-//https://penrith.rwoffice1.com/nsw/emerton/3481581///NONSGML kigkonsult.se iCalcreator 2.10.23//
BEGIN:VTIMEZONE
TZID:Australia/NSW
END:VTIMEZONE
BEGIN:VEVENT
UID:20260424T140511UTC-5329RSlLRl@https://penrith.rwoffice1.com/nsw/emerton
 /3481581/
DTSTAMP:20260424T140511Z
ATTENDEE:MAILTO:paris.burke@raywhite.com
DESCRIPTION:Open For Inspection Time\n		Emerton\, 22A Handel Avenue\n		Prop
 erty Price: $500 Per WeekProperty Type: House\n		Beds: 2   Baths: 1   Car 
 Spaces: 1\n\n		View details: https://penrith.rwoffice1.com/nsw/emerton/348
 1581/\n\n		Agent: Paris Burke\n			 Email: paris.burke@raywhite.com\n\n		Ra
 y White recommends confirming the Open For Inspection Time times with the 
 Agent\, to ensure they have not changed.
DTSTART:20260429T162000
DTEND:20260429T163500
LOCATION:Emerton\, 22A Handel Avenue
SUMMARY:Inspection - Emerton\, 22A Handel Avenue
X-WR-TIMEZONE:Australia/NSW
END:VEVENT
END:VCALENDAR
