BEGIN:VCALENDAR
VERSION:2.0
PRODID:-//https://penrith.rwoffice1.com/nsw/erskine-park/3481379///NONSGML kigkonsult.se iCalcreator 2.10.23//
BEGIN:VTIMEZONE
TZID:Australia/NSW
END:VTIMEZONE
BEGIN:VEVENT
UID:20260422T183834UTC-6551GVXVEB@https://penrith.rwoffice1.com/nsw/erskine
 -park/3481379/
DTSTAMP:20260422T183834Z
ATTENDEE:MAILTO:paris.burke@raywhite.com
DESCRIPTION:Open For Inspection Time\n		Erskine Park\, 14 Honeyeater Place
 \n		Property Price: $800 Per WeekProperty Type: House\n		Beds: 4   Baths: 
 2   Car Spaces: 2\n\n		View details: https://penrith.rwoffice1.com/nsw/ers
 kine-park/3481379/\n\n		Agent: Paris Burke\n			 Email: paris.burke@raywhit
 e.com\n\n		Ray White recommends confirming the Open For Inspection Time ti
 mes with the Agent\, to ensure they have not changed.
DTSTART:20260423T150000
DTEND:20260423T151500
LOCATION:Erskine Park\, 14 Honeyeater Place
SUMMARY:Inspection - Erskine Park\, 14 Honeyeater Place
X-WR-TIMEZONE:Australia/NSW
END:VEVENT
END:VCALENDAR
