BEGIN:VCALENDAR
VERSION:2.0
PRODID:-//https://penrith.rwoffice1.com/nsw/glenmore-park/3481265///NONSGML kigkonsult.se iCalcreator 2.10.23//
BEGIN:VTIMEZONE
TZID:Australia/NSW
END:VTIMEZONE
BEGIN:VEVENT
UID:20260422T103006UTC-1024PfFuSN@https://penrith.rwoffice1.com/nsw/glenmor
 e-park/3481265/
DTSTAMP:20260422T103006Z
ATTENDEE:MAILTO:jess.grant@raywhite.com
DESCRIPTION:Open For Inspection Time\n		Glenmore Park\, 6/103-111 The Lakes
  Drive\n		Property Price: $880\,000 - $940\,000Property Type: Townhouse\n	
 	Beds: 3   Baths: 2   Car Spaces: 1\n\n		View details: https://penrith.rwo
 ffice1.com/nsw/glenmore-park/3481265/\n\n		Agent: Jessica Grant\n			 Email
 : jess.grant@raywhite.com\n\n		Ray White recommends confirming the Open Fo
 r Inspection Time times with the Agent\, to ensure they have not changed.
DTSTART:20260423T170000
DTEND:20260423T173000
LOCATION:Glenmore Park\, 6/103-111 The Lakes Drive
SUMMARY:Inspection - Glenmore Park\, 6/103-111 The Lakes Drive
X-WR-TIMEZONE:Australia/NSW
END:VEVENT
END:VCALENDAR
