BEGIN:VCALENDAR
VERSION:2.0
PRODID:-//https://penrith.rwoffice1.com/nsw/south-penrith/3470562///NONSGML kigkonsult.se iCalcreator 2.10.23//
BEGIN:VTIMEZONE
TZID:Australia/NSW
END:VTIMEZONE
BEGIN:VEVENT
UID:20260422T143808UTC-5878JMhl4B@https://penrith.rwoffice1.com/nsw/south-p
 enrith/3470562/
DTSTAMP:20260422T143808Z
ATTENDEE:MAILTO:helen.fitzpatrick@raywhite.com
DESCRIPTION:Open For Inspection Time\n		South Penrith\, 193 Smith Street\n	
 	Property Price: $1\,199\,000Property Type: House\n		Beds: 3   Baths: 1   
 Car Spaces: 1\n\n		View details: https://penrith.rwoffice1.com/nsw/south-p
 enrith/3470562/\n\n		Agent: Helen Fitzpatrick\n			 Email: helen.fitzpatric
 k@raywhite.com\n			 Mobile: +61 414 362 955\n			 Phone: +61 (2) 4732 3333
 \n\n		Ray White recommends confirming the Open For Inspection Time times w
 ith the Agent\, to ensure they have not changed.
DTSTART:20260424T180000
DTEND:20260424T183000
LOCATION:South Penrith\, 193 Smith Street
SUMMARY:Inspection - South Penrith\, 193 Smith Street
X-WR-TIMEZONE:Australia/NSW
END:VEVENT
END:VCALENDAR
